BEGIN:VCALENDAR
VERSION:2.0
PRODID:-//БИЦ Инобридж - ECPv6.15.20//NONSGML v1.0//EN
CALSCALE:GREGORIAN
METHOD:PUBLISH
X-WR-CALNAME:БИЦ Инобридж
X-ORIGINAL-URL:https://www.innobridge.org
X-WR-CALDESC:Събития за БИЦ Инобридж
REFRESH-INTERVAL;VALUE=DURATION:PT1H
X-Robots-Tag:noindex
X-PUBLISHED-TTL:PT1H
BEGIN:VTIMEZONE
TZID:Europe/Sofia
BEGIN:DAYLIGHT
TZOFFSETFROM:+0200
TZOFFSETTO:+0300
TZNAME:EEST
DTSTART:20220327T010000
END:DAYLIGHT
BEGIN:STANDARD
TZOFFSETFROM:+0300
TZOFFSETTO:+0200
TZNAME:EET
DTSTART:20221030T010000
END:STANDARD
BEGIN:DAYLIGHT
TZOFFSETFROM:+0200
TZOFFSETTO:+0300
TZNAME:EEST
DTSTART:20230326T010000
END:DAYLIGHT
BEGIN:STANDARD
TZOFFSETFROM:+0300
TZOFFSETTO:+0200
TZNAME:EET
DTSTART:20231029T010000
END:STANDARD
BEGIN:DAYLIGHT
TZOFFSETFROM:+0200
TZOFFSETTO:+0300
TZNAME:EEST
DTSTART:20240331T010000
END:DAYLIGHT
BEGIN:STANDARD
TZOFFSETFROM:+0300
TZOFFSETTO:+0200
TZNAME:EET
DTSTART:20241027T010000
END:STANDARD
BEGIN:DAYLIGHT
TZOFFSETFROM:+0200
TZOFFSETTO:+0300
TZNAME:EEST
DTSTART:20250330T010000
END:DAYLIGHT
BEGIN:STANDARD
TZOFFSETFROM:+0300
TZOFFSETTO:+0200
TZNAME:EET
DTSTART:20251026T010000
END:STANDARD
END:VTIMEZONE
BEGIN:VEVENT
DTSTART;TZID=Europe/Sofia:20240313T150000
DTEND;TZID=Europe/Sofia:20240313T160000
DTSTAMP:20260424T132338
CREATED:20240306T171206Z
LAST-MODIFIED:20240320T084726Z
UID:4716-1710342000-1710345600@www.innobridge.org
SUMMARY:Уебинар SEW 2024: Предприемачески общности\, финансиране и зелена промяна
DESCRIPTION:И тази година Русе отново се включва в Европейска седмица на стартиращите предприятия Startup Europe Week (SEW). Това е най-голямата международна инициатива от паралелно провеждащи се регионални събития\, чиято цел е да помогне предприемачите в тяхното развитие и растеж\, където и да се намират те. Събитията от поредицата представят местната предприемаческа екосистема и актуални възможности за подкрепа на стартиращи и млади компании. \n\n\n\nSEW се провежда в повече от 300 града в 50+ страни\, със сътрудничеството на 250+ местни съорганизатори. По време на SEW 2016\, 2017\, 2018\, 2019\, 2021\, 2022 и 2023 повече от 150 000 предприемачи посетиха събития на SEW по целия свят и аудитория от 6 милиона+ предприемачи беше достигната чрез повече от 20 милиона импресии в онлайн и социалните канали. \n\n\n\nКато регионален координатор на инициативата\, БИЦ Инобридж отправя покана към Вас за участие в уебинара „Предприемачески общности\, финансиране и зелена промяна“. Уебинарът ще се проведе на 13.03.2024 г. от 15:00 ч. в платформата Webex. \n\n\n\nПрограма на уебинара\n\n\n\nЧасТемаЛектор15:00 – 15:10Представяне на инициативата Европейска седмица на стартиращите предприятияДесислава Димитрова\, БИЦ Инобридж15:10 – 15:20Как да се присъединим към европейска предприемаческа общностДесислава Димитрова\, БИЦ Инобридж15:20 – 15:30Отворена покана към креативни бизнеси за участие в сесии „Sprint and Pitch” пред инвеститори от SPECTRA общносттаСтела Дионисиева\, БИЦ Инобридж15:30 – 15:40„Посланици на зелената промяна: иновации и устойчивост за по-зелено бъдеще“Ирена Иванова\, Русенска Търговско-Индустриална Камара (РТИК)15:40 – 15:50Възможности за финансиране по схемата „Подкрепа за семейните предприятия\, предприятията от творческите индустрии и занаятите“Десислава Димитрова\, БИЦ Инобридж15:50 – 16:00Въпроси и отговориДесислава Димитрова\, БИЦ Инобридж\n\n\n\nСъбитието е безплатно\, но е необходима предварителна регистрация. За да заявите своето участие\, моля попълнете регистрационната форма. Връзката за включване ще ви бъде изпратена допълнително. \n\n\n\nРегистрацията за уебинара приключи
URL:https://www.innobridge.org/event/%d1%83%d0%b5%d0%b1%d0%b8%d0%bd%d0%b0%d1%80-sew-2024-%d0%bf%d1%80%d0%b5%d0%b4%d0%bf%d1%80%d0%b8%d0%b5%d0%bc%d0%b0%d1%87%d0%b5%d1%81%d0%ba%d0%b8-%d0%be%d0%b1%d1%89%d0%bd%d0%be%d1%81%d1%82%d0%b8/
ATTACH;FMTTYPE=image/jpeg:https://www.innobridge.org/wp-content/uploads/2024/03/RRSS_HEADER-FACEBOOK-scaled.jpg
END:VEVENT
BEGIN:VEVENT
DTSTART;TZID=Europe/Sofia:20240227T120000
DTEND;TZID=Europe/Sofia:20240227T133000
DTSTAMP:20260424T132338
CREATED:20240208T113811Z
LAST-MODIFIED:20240208T120455Z
UID:4578-1709035200-1709040600@www.innobridge.org
SUMMARY:Уебинар за ИНВЕСТИТОРИ: Възможности за инвестиране в творческите индустрии
DESCRIPTION:На 27 февруари консорциумът по проект SPECTRA организира специализиран уебинар и кани “Seed” инвеститори (с инвестиции между 200 хил. и 1\,5 млн. евро) от Ирландия и България\, които имат инвестиционни интереси  в творчески индустрии (аудио-визуални\, музикални\, сценични изкуства). Заедно с опитни инвеститори в творческите индустрии в партньорски формат ще имаме възможността да обсъдим сложността\, особеностите и предимствата на инвестирането в творческия сектор и ще се задълбочим в пазарния подход и творческото предприемачество. \n\n\n\nРаботен език: Английски \n\n\n\nПрограма: \n\n\n\n12:00 – 12:10Въведение и кратко представяне на проект SPECTRA\, Хелена Дийн\, WDC\, водещ партньор12:10 – 12:20Кратко представяне на участниците.12:20 – 12:40Възможности и предизвикателства при инвестирането в творческите индустрии\, Тиери Баужар\, CEO Media Deals и партньор в проект SPECTRA12:40 – 12:55Споделяне на личен опит от  инвеститор в творчески компании\, Патрик Зукета12:55 – 13:20Въпроси и отговори12:20 – 13:30Обобщение и представяне на възможности за участие в следващи инициативи по проект SPECTRA.\n\n\n\nЛектори и експерти: \n\n\n\n\n\n\n\nПатрик Зукета (Франция/Португалия). През последните 20 години Патрик изгражда кариера като сериен предприемач\, инвестирайки в различни пазари – от професионална аудиовизуална техника и технологии\,  до музикален интелект и образователни технологии\, базирани на изкуствен интелект. Печалбите си от успешни начинания той реинвестира в нови. Първоначалната му експертиза е в областта на инженерните технологии\, разширявайки се през годините към бизнес развитие с международен опит\, а след това и към лидерство в стартиращи компании с експертиза в изграждането на мрежи от САЩ до Китай. \n\n\n\n\n\n\n\nТиери Баужар (Германия)\, Главен изпълнителен директор на Паневропейската инвестиционна мрежа Media Deals\, която се фокусира върху творческите индустрии. Тиери има 20-годишен опит в областта на международното бизнес консултиране в културния и творческия сектор\, като подпомага инвеститори и стартиращи компании да разработят съответната стратегия за финансиране. Предишният му опит включва ръководни длъжности във Vivendi (Лондон и Лос Анджелис) и Studio Babelsberg и Canalweb в Берлин. Като инвеститор в момента има 8 компании в портфолиото си. \n\n\n\n\n\n\n\nХелена Дийн (Ирландия)\, Програмен директор „Стратегическо за развитие на западния регион“ в Western Development Commission\, водещ партньор в проект SPECTRA. С експертен опит в подкрепата на предприемачеството\, иновациите и трансфера на технологии\, тя активно работи за насърчаването на отворени иновации\, клъстери и екосистеми в региона на Западна Ирландия. През последните 13 години се е посветила в подкрепата на стартиращи компании\, нови технологии\, бизнес планиране и мащабиране\, пазарен анализ. \n\n\n\nЗа да заявите участие в уебинара\, изпратете Вашите: име и фамилия\, позиция\, организация и контакти на имейл адрес:  info@innobridge.org не по-късно от 23.02.2023 г.  Заявилите участие ще получат линк за достъп до уебинара. Местата са ограничени!
URL:https://www.innobridge.org/event/%d1%83%d0%b5%d0%b1%d0%b8%d0%bd%d0%b0%d1%80-%d0%b7%d0%b0-%d0%b8%d0%bd%d0%b2%d0%b5%d1%81%d1%82%d0%b8%d1%82%d0%be%d1%80%d0%b8-%d0%b2%d1%8a%d0%b7%d0%bc%d0%be%d0%b6%d0%bd%d0%be%d1%81%d1%82%d0%b8-%d0%b7/
ATTACH;FMTTYPE=image/png:https://www.innobridge.org/wp-content/uploads/2023/08/SPECTRA-Project-Logo.png
ORGANIZER;CN="%D0%91%D0%98%D0%A6 %D0%98%D0%BD%D0%BE%D0%B1%D1%80%D0%B8%D0%B4%D0%B6":MAILTO:info@innobridge.org
END:VEVENT
BEGIN:VEVENT
DTSTART;TZID=Europe/Sofia:20231214T173000
DTEND;TZID=Europe/Sofia:20231214T200000
DTSTAMP:20260424T132338
CREATED:20231203T153722Z
LAST-MODIFIED:20231215T085109Z
UID:4313-1702575000-1702584000@www.innobridge.org
SUMMARY:Образователно-релаксиращо събитие "Да преборим стреса: Арт и Вино терапия"
DESCRIPTION:Някога били ли сте под стрес? Риторичен въпрос. Какво ще кажете да избягате от него за кратко? Бизнес Иновационен Център Инобридж ви кани на една по-различна терапия против стреса на работното място\, в приятна обстановка и позитивните ни приятели от “Арт и Вино”. \n\n\n\nСъвременната работна среда и свързаните с нея все по-изискващи ситуации\, неизбежно минават през емоционални и физически етапи на усложнения в нас\, които днес познаваме като стрес и професионално прегаряне. Всъщност\, знаете ли\, че стресът допринася за около половината от всички загубени работни дни в годината? \n\n\n\nВ тази връзка стартирахме и проект StressOut – Съвременни инструменти за управление на стреса на работното място. Проектът има за цел да предостави инструменти за превенция и управление на стреса както на лично\, така и на бизнес ниво. Какво означава това ли? Чрез планираните дейности\, проект StressOut ще позволи създаването на иновативен курс за обучение с обучителни дейности чрез опит\, които да помогнат както на работодателите\, така и на служителите да се борят със стреса и прегарянето\, както и работни техники за предотвратяването им чрез лесно достъпен и модерен инструмент – мобилно приложение. \n\n\n\nОчакваме ви на 14 Декември 2023 от 17:30ч.\, за да ви разкажем повече за проект StressOut и резултатите от международното ни проучване по темата за стреса\, от където ще получите важни отговори на въпроси като какво причинява стреса и какви са начините да се справим с него. А за да не ви създаваме допълнително стрес\, ще се отдадем на Арт и Вино терапия с коледни нотки и добро настроение. \n\n\n\nУчастието в събитието е безплатно\, но местата са ограничени! Моля\, използвайте формуляра\, за да се регистрирате. \n\n\n\n\nРегистрацията за събитието приключи\n\n\n\n\nЗа въпроси относно събитието или проекта\, може да се свържете с г-ца Ирена Иванова или г-н Айри Мемишев\, координатори на проекта. \n\n\n\nStressOut е международен проект\, ръководен от БИЦ Инобридж и финансиран по програма Еразъм+ на ЕС.
URL:https://www.innobridge.org/event/%d0%be%d0%b1%d1%80%d0%b0%d0%b7%d0%be%d0%b2%d0%b0%d1%82%d0%b5%d0%bb%d0%bd%d0%be-%d1%80%d0%b5%d0%bb%d0%b0%d0%ba%d1%81%d0%b8%d1%80%d0%b0%d1%89%d0%be-%d1%81%d1%8a%d0%b1%d0%b8%d1%82%d0%b8%d0%b5-%d0%b4/
LOCATION:Хотел Adeo Русе\, пл. „Хан Кубрат“ 5\, Русе Център\,\, Русе\, Русе\, 7000\, Bulgaria
ATTACH;FMTTYPE=image/jpeg:https://www.innobridge.org/wp-content/uploads/2023/12/Образователно-релаксиращо-събитие-Да-преборим-стреса-Арт-и-Вино-терапия.jpg
ORGANIZER;CN="%D0%91%D0%98%D0%A6 %D0%98%D0%BD%D0%BE%D0%B1%D1%80%D0%B8%D0%B4%D0%B6":MAILTO:info@innobridge.org
END:VEVENT
BEGIN:VEVENT
DTSTART;TZID=Europe/Sofia:20231128T160000
DTEND;TZID=Europe/Sofia:20231128T170000
DTSTAMP:20260424T132338
CREATED:20231122T130606Z
LAST-MODIFIED:20231124T065235Z
UID:4289-1701187200-1701190800@www.innobridge.org
SUMMARY:Уебинар: Интелектуалната собственост в креативните и творчески индустрии
DESCRIPTION:Някой е откраднал идеята ви! 😮Някой копира продукта ви! 😥Някой използва вашето иновативно решение!“ 😑Това е кошмарът на всеки креативен предприемач – да се събуди една сутрин и да открие\, че някой друг прави абсолютно същото.За да не попадате в тази сутуация\, е необходимо да защитите вашия продукт и да комерсиализирате интелектуалната си собственост.“ 😎  \n\n\n\nКак можете да го направите – научeте по време на нашия онлайн  безплатен уебинар „Стратегии в областта на интелектуалната собственост  в сферата на креативните индустрии“. Той ще се проведе на 28 ноември 2023г. в Zoom\, а работният език ще е английски. Събитието е част от дейностите по проект Spectra\, а основен организатор е нашия партньор Creative Business Network. \n\n\n\nТеми на уебинара \n\n\n\n\nСтратегии за интелектуална собственост в сферата на творческите индустрии: как да избегнем грешките при управлението на творчески бизнес?\n\n\n\nИнтелектуалната собственост като инструмент за монетизация: как творческите и иновативните предприятия могат да използват интелектуалната собственост като възможност за комерсиализация?\n\n\n\nИновации в областта на интелектуалбата собственос: как да защитим творчеството в цифровата ера?\n\n\n\nПрактически съвети и препоръки от и за творци.\n\n\n\n\nЗа кого е предназначен уебинарът? \n\n\n\nТворчески предприемачи\, артисти\, консултанти и експерти в творческите индустрии\, както всички остананали заинтересовани страни.  \n\n\n\n \n\n\n\nВ рамките на уебинара ще имате възможност да задавате въпроси\, да се включите в дискусиите с нашите гости и да получите всички инструменти\, от които се нуждаете\, за да разработите своя собствена рамка. \n\n\n\nРегистрирайте се сега\, за да научите как да защитите работата си 👇 \n\n\n\n \n\n\n\nРЕГИСТРАЦИЯ
URL:https://www.innobridge.org/event/%d1%81%d0%bf%d0%b5%d1%86%d0%b8%d0%b0%d0%bb%d0%b8%d0%b7%d0%b8%d1%80%d0%b0%d0%bd-%d1%83%d0%b5%d0%b1%d0%b8%d0%bd%d0%b0%d1%80-%d0%bd%d0%b0-%d1%82%d0%b5%d0%bc%d0%b0-%d1%81%d1%82%d1%80%d0%b0%d1%82%d0%b5/
ATTACH;FMTTYPE=image/jpeg:https://www.innobridge.org/wp-content/uploads/2023/11/400854613_747223677447059_3823305688353806151_n.jpg
END:VEVENT
END:VCALENDAR